BEGIN:VCALENDAR
VERSION:2.0
PRODID:-//Pine Valley Golf Club - ECPv6.15.20//NONSGML v1.0//EN
CALSCALE:GREGORIAN
METHOD:PUBLISH
X-WR-CALNAME:Pine Valley Golf Club
X-ORIGINAL-URL:https://pinevalleyohio.com
X-WR-CALDESC:Events for Pine Valley Golf Club
REFRESH-INTERVAL;VALUE=DURATION:PT1H
X-Robots-Tag:noindex
X-PUBLISHED-TTL:PT1H
BEGIN:VTIMEZONE
TZID:America/New_York
BEGIN:DAYLIGHT
TZOFFSETFROM:-0500
TZOFFSETTO:-0400
TZNAME:EDT
DTSTART:20240310T070000
END:DAYLIGHT
BEGIN:STANDARD
TZOFFSETFROM:-0400
TZOFFSETTO:-0500
TZNAME:EST
DTSTART:20241103T060000
END:STANDARD
BEGIN:DAYLIGHT
TZOFFSETFROM:-0500
TZOFFSETTO:-0400
TZNAME:EDT
DTSTART:20250309T070000
END:DAYLIGHT
BEGIN:STANDARD
TZOFFSETFROM:-0400
TZOFFSETTO:-0500
TZNAME:EST
DTSTART:20251102T060000
END:STANDARD
BEGIN:DAYLIGHT
TZOFFSETFROM:-0500
TZOFFSETTO:-0400
TZNAME:EDT
DTSTART:20260308T070000
END:DAYLIGHT
BEGIN:STANDARD
TZOFFSETFROM:-0400
TZOFFSETTO:-0500
TZNAME:EST
DTSTART:20261101T060000
END:STANDARD
END:VTIMEZONE
BEGIN:VEVENT
DTSTART;TZID=America/New_York:20250802T083000
DTEND;TZID=America/New_York:20250802T140000
DTSTAMP:20260420T165106
CREATED:20250424T144807Z
LAST-MODIFIED:20250424T144807Z
UID:7786-1754123400-1754143200@pinevalleyohio.com
SUMMARY:Edward J. Reynolds Sr. Scholarship Fund Golf Outing
DESCRIPTION:Pine Valley Invitational 2025
URL:https://pinevalleyohio.com/event/edward-j-reynolds-sr-scholarship-fund-golf-outing/
LOCATION:Pine Valley Golf Club\, 469 Reimer Road\, Wadsworth\, OH\, 44281\, United States
ATTACH;FMTTYPE=application/pdf:https://pinevalleyohio.com/wp-content/uploads/2025/04/Pine-Valley-Invitational-2025-1.pdf
END:VEVENT
BEGIN:VEVENT
DTSTART;TZID=America/New_York:20250802T143000
DTEND;TZID=America/New_York:20250802T203000
DTSTAMP:20260420T165106
CREATED:20250519T152651Z
LAST-MODIFIED:20250701T181727Z
UID:7807-1754145000-1754166600@pinevalleyohio.com
SUMMARY:5th Annual Grandma Jo Golf Outing
DESCRIPTION:
URL:https://pinevalleyohio.com/event/5th-annual-grandma-jo-golf-outing/
LOCATION:Pine Valley Golf Club\, 469 Reimer Road\, Wadsworth\, OH\, 44281\, United States
ATTACH;FMTTYPE=image/png:https://pinevalleyohio.com/wp-content/uploads/2025/05/GmaJoGolfOutingFLYER25-01-1.png
ORGANIZER;CN="Dale and Joanne Widmer Foundation":MAILTO:Widmerfoundation@gmail.com
END:VEVENT
BEGIN:VEVENT
DTSTART;VALUE=DATE:20250815
DTEND;VALUE=DATE:20250817
DTSTAMP:20260420T165106
CREATED:20250701T181620Z
LAST-MODIFIED:20250701T181620Z
UID:7824-1755216000-1755388799@pinevalleyohio.com
SUMMARY:Night Golf 2025
DESCRIPTION:The Final Night Golf 2025 Flyer \nColorful Christmas Lights Blank Page Border A4 Document
URL:https://pinevalleyohio.com/event/night-golf-2025/
LOCATION:Pine Valley Golf Club\, 469 Reimer Road\, Wadsworth\, OH\, 44281\, United States
ATTACH;FMTTYPE=application/pdf:https://pinevalleyohio.com/wp-content/uploads/2025/07/The-Final-Night-Golf-2025-Flyer-1.pdf
ORGANIZER;CN="Pine Valley Golf Club":MAILTO:pinevalleygcohio@gmail.com
END:VEVENT
END:VCALENDAR