BEGIN:VCALENDAR
VERSION:2.0
PRODID:-//Pine Valley Golf Club - ECPv6.15.20//NONSGML v1.0//EN
CALSCALE:GREGORIAN
METHOD:PUBLISH
X-WR-CALNAME:Pine Valley Golf Club
X-ORIGINAL-URL:https://pinevalleyohio.com
X-WR-CALDESC:Events for Pine Valley Golf Club
REFRESH-INTERVAL;VALUE=DURATION:PT1H
X-Robots-Tag:noindex
X-PUBLISHED-TTL:PT1H
BEGIN:VTIMEZONE
TZID:America/Toronto
BEGIN:DAYLIGHT
TZOFFSETFROM:-0500
TZOFFSETTO:-0400
TZNAME:EDT
DTSTART:20170312T070000
END:DAYLIGHT
BEGIN:STANDARD
TZOFFSETFROM:-0400
TZOFFSETTO:-0500
TZNAME:EST
DTSTART:20171105T060000
END:STANDARD
BEGIN:DAYLIGHT
TZOFFSETFROM:-0500
TZOFFSETTO:-0400
TZNAME:EDT
DTSTART:20180311T070000
END:DAYLIGHT
BEGIN:STANDARD
TZOFFSETFROM:-0400
TZOFFSETTO:-0500
TZNAME:EST
DTSTART:20181104T060000
END:STANDARD
BEGIN:DAYLIGHT
TZOFFSETFROM:-0500
TZOFFSETTO:-0400
TZNAME:EDT
DTSTART:20190310T070000
END:DAYLIGHT
BEGIN:STANDARD
TZOFFSETFROM:-0400
TZOFFSETTO:-0500
TZNAME:EST
DTSTART:20191103T060000
END:STANDARD
BEGIN:DAYLIGHT
TZOFFSETFROM:-0500
TZOFFSETTO:-0400
TZNAME:EDT
DTSTART:20200308T070000
END:DAYLIGHT
BEGIN:STANDARD
TZOFFSETFROM:-0400
TZOFFSETTO:-0500
TZNAME:EST
DTSTART:20201101T060000
END:STANDARD
END:VTIMEZONE
BEGIN:VEVENT
DTSTART;TZID=America/Toronto:20191020T080000
DTEND;TZID=America/Toronto:20191020T150000
DTSTAMP:20260421T013117
CREATED:20190810T192415Z
LAST-MODIFIED:20190810T192415Z
UID:6804-1571558400-1571583600@pinevalleyohio.com
SUMMARY:Strut your Putts for Pets Golf Outing and Luncheon
DESCRIPTION:The Friends Of Medina County SPCA\n2nd annual golf outing and luncheon\nat Pine Valley Golf Club\nWhen                    Sunday\, October 20th\, 2019\n   Time: 8:30 am Registration\n                  9:00 am Shotgun Start\nCost: $75 per person\nIncludes: 18 holes w/cart\, breakfast\, pastries\, coffee and lunch\n  \nRegistration deadline is October 10\, 2019
URL:https://pinevalleyohio.com/event/strut-your-putts-for-pets-golf-outing-and-luncheon/
LOCATION:OH
END:VEVENT
BEGIN:VEVENT
DTSTART;TZID=America/Toronto:20190806T080000
DTEND;TZID=America/Toronto:20190806T170000
DTSTAMP:20260421T013117
CREATED:20190806T123411Z
LAST-MODIFIED:20190806T123411Z
UID:6784-1565078400-1565110800@pinevalleyohio.com
SUMMARY:Srixon Ball Event!
DESCRIPTION:Friday August 16th\n11 am – 2 pm\n1/2 price on all Srixon Golf Balls
URL:https://pinevalleyohio.com/event/srixon-ball-event/
LOCATION:OH
END:VEVENT
BEGIN:VEVENT
DTSTART;TZID=America/Toronto:20181021T080000
DTEND;TZID=America/Toronto:20181021T170000
DTSTAMP:20260421T013117
CREATED:20181010T125652Z
LAST-MODIFIED:20181010T132340Z
UID:6105-1540108800-1540141200@pinevalleyohio.com
SUMMARY:1st Annual Michael Clambake Open
DESCRIPTION:1st Annual Michael Clam Bake Open\n\nCome be a part of our 1st Annual Clambake. Come enjoy a day of golf\, football and a great clambake. \n\n\n\n\n\nDate: October 21st\n                      Time: Register 9 am – Shotgun Start 10 am\nCost: $40 per person or $160 per team.\nClambake Only $20.00\nRegister online or call us at the clubhouse. Must register by October 14th.
URL:https://pinevalleyohio.com/event/1st-annual-michael-clambake-open/
LOCATION:OH
END:VEVENT
BEGIN:VEVENT
DTSTART;TZID=America/Toronto:20180728T170000
DTEND;TZID=America/Toronto:20180728T223000
DTSTAMP:20260421T013117
CREATED:20180620T192130Z
LAST-MODIFIED:20180620T195127Z
UID:5232-1532797200-1532817000@pinevalleyohio.com
SUMMARY:Kaitlyn and Lance Wedding Reception
DESCRIPTION:Pine Valley will be closing on July 28th at 5 pm for the wedding reception of Lance and Kaitlyn. \nThe last tee time will be 3:oo pm and for 9 holes. \nCongratulations Kaitlyn and Lance
URL:https://pinevalleyohio.com/event/kaitlyn-and-lance-wedding-reception/
LOCATION:Pine Valley Golf Club\, 469 Reimer Road\, Wadsworth\, OH\, 44281\, United States
ORGANIZER;CN="":MAILTO:pinevalleygc@gmail.com
END:VEVENT
BEGIN:VEVENT
DTSTART;TZID=America/Toronto:20180714T080000
DTEND;TZID=America/Toronto:20180714T170000
DTSTAMP:20260421T013117
CREATED:20180620T195835Z
LAST-MODIFIED:20180620T195835Z
UID:5252-1531555200-1531587600@pinevalleyohio.com
SUMMARY:Mason's Golf Outing
DESCRIPTION:Mason’s Outing \nSaturday July 14th \nCheck-in 8:00 am \nShotgun start 9:00 am \n  \nCourse will be closed until 2 pm for open golf
URL:https://pinevalleyohio.com/event/masons-golf-outing/
LOCATION:OH
END:VEVENT
BEGIN:VEVENT
DTSTART;TZID=America/Toronto:20180708T090000
DTEND;TZID=America/Toronto:20180708T140000
DTSTAMP:20260421T013117
CREATED:20180611T172558Z
LAST-MODIFIED:20180612T133120Z
UID:5132-1531040400-1531058400@pinevalleyohio.com
SUMMARY:6th Annual Baberton Band Golf Outing
DESCRIPTION:
URL:https://pinevalleyohio.com/event/6th-annual-baberton-band-golf-outing/
LOCATION:OH
END:VEVENT
BEGIN:VEVENT
DTSTART;TZID=America/Toronto:20180620T080000
DTEND;TZID=America/Toronto:20180620T170000
DTSTAMP:20260421T013117
CREATED:20180714T204519Z
LAST-MODIFIED:20180620T204947Z
UID:5255-1529481600-1529514000@pinevalleyohio.com
SUMMARY:Mason's Golf Outing July 14th
DESCRIPTION:Mason’s Golf Outing \nSaturday July 14th \nCheck-in 8:00 am \nShotgun Start 9:00 am \nCourse will take open tee times beginning at 2 pm
URL:https://pinevalleyohio.com/event/masons-golf-outing-july-14th/
LOCATION:OH
END:VEVENT
END:VCALENDAR