BEGIN:VCALENDAR
VERSION:2.0
PRODID:-//Pine Valley Golf Club - ECPv6.15.20//NONSGML v1.0//EN
CALSCALE:GREGORIAN
METHOD:PUBLISH
X-WR-CALNAME:Pine Valley Golf Club
X-ORIGINAL-URL:https://pinevalleyohio.com
X-WR-CALDESC:Events for Pine Valley Golf Club
REFRESH-INTERVAL;VALUE=DURATION:PT1H
X-Robots-Tag:noindex
X-PUBLISHED-TTL:PT1H
BEGIN:VTIMEZONE
TZID:America/New_York
BEGIN:DAYLIGHT
TZOFFSETFROM:-0500
TZOFFSETTO:-0400
TZNAME:EDT
DTSTART:20240310T070000
END:DAYLIGHT
BEGIN:STANDARD
TZOFFSETFROM:-0400
TZOFFSETTO:-0500
TZNAME:EST
DTSTART:20241103T060000
END:STANDARD
BEGIN:DAYLIGHT
TZOFFSETFROM:-0500
TZOFFSETTO:-0400
TZNAME:EDT
DTSTART:20250309T070000
END:DAYLIGHT
BEGIN:STANDARD
TZOFFSETFROM:-0400
TZOFFSETTO:-0500
TZNAME:EST
DTSTART:20251102T060000
END:STANDARD
BEGIN:DAYLIGHT
TZOFFSETFROM:-0500
TZOFFSETTO:-0400
TZNAME:EDT
DTSTART:20260308T070000
END:DAYLIGHT
BEGIN:STANDARD
TZOFFSETFROM:-0400
TZOFFSETTO:-0500
TZNAME:EST
DTSTART:20261101T060000
END:STANDARD
END:VTIMEZONE
BEGIN:VEVENT
DTSTART;TZID=America/New_York:20250920T143000
DTEND;TZID=America/New_York:20250920T203000
DTSTAMP:20260420T165016
CREATED:20250627T151139Z
LAST-MODIFIED:20250627T151139Z
UID:7816-1758378600-1758400200@pinevalleyohio.com
SUMMARY:Republican Party of Medina County Golf Outing 2025
DESCRIPTION:
URL:https://pinevalleyohio.com/event/republican-party-of-medina-county-golf-outing-2025/
LOCATION:Pine Valley Golf Club\, 469 Reimer Road\, Wadsworth\, OH\, 44281\, United States
ATTACH;FMTTYPE=image/png:https://pinevalleyohio.com/wp-content/uploads/2025/06/Republican-outing-2025-3-scaled.png
ORGANIZER;CN="Republican Party of Medina County":MAILTO:info@medinagop.com
END:VEVENT
END:VCALENDAR